OziExplorer Map Data File Version 2.2
Created by SAS.Planet
z14tu.jpg
1 ,Map Code,
WGS 84,, 0.0000, 0.0000,WGS 84
Reserved 1
Reserved 2
Magnetic Variation,,,E
Map Projection,Mercator,PolyCal,No,AutoCalOnly,No,BSBUseWPX,No
Point01,xy, 0, 0,in, deg, 36, 48.1529966784912,N, 30, 19.0166473388672,E, grid, , , ,N
Point02,xy, 1681, 3297,in, deg, 36, 20.8823002875371,N, 30, 36.3304138183594,E, grid, , , ,N
Point03,xy, 0, 3297,in, deg, 36, 20.8823002875371,N, 30, 19.0166473388672,E, grid, , , ,N
Point04,xy, 1681, 0,in, deg, 36, 48.1529966784912,N, 30, 36.3304138183594,E, grid, , , ,N
Point05,xy, 840, 1648,in, deg, 36, 34.5335775711472,N, 30, 27.6786804199219,E, grid, , , ,N
Point06,xy, 840, 0,in, deg, 36, 48.1529966784912,N, 30, 27.6786804199219,E, grid, , , ,N
Point07,xy, 0, 1648,in, deg, 36, 34.5335775711472,N, 30, 19.0166473388672,E, grid, , , ,N
Point08,xy, 1681, 1648,in, deg, 36, 34.5335775711472,N, 30, 36.3304138183594,E, grid, , , ,N
Point09,xy, 840, 3297,in, deg, 36, 20.8823002875371,N, 30, 27.6786804199219,E, grid, , , ,N
Point10,xy, , ,in, deg, , ,N, , ,W, grid, , , ,N
Point11,xy, , ,in, deg, , ,N, , ,W, grid, , , ,N
Point12,xy, , ,in, deg, , ,N, , ,W, grid, , , ,N
Point13,xy, , ,in, deg, , ,N, , ,W, grid, , , ,N
Point14,xy, , ,in, deg, , ,N, , ,W, grid, , , ,N
Point15,xy, , ,in, deg, , ,N, , ,W, grid, , , ,N
Point16,xy, , ,in, deg, , ,N, , ,W, grid, , , ,N
Point17,xy, , ,in, deg, , ,N, , ,W, grid, , , ,N
Point18,xy, , ,in, deg, , ,N, , ,W, grid, , , ,N
Point19,xy, , ,in, deg, , ,N, , ,W, grid, , , ,N
Point20,xy, , ,in, deg, , ,N, , ,W, grid, , , ,N
Point21,xy, , ,in, deg, , ,N, , ,W, grid, , , ,N
Point22,xy, , ,in, deg, , ,N, , ,W, grid, , , ,N
Point23,xy, , ,in, deg, , ,N, , ,W, grid, , , ,N
Point24,xy, , ,in, deg, , ,N, , ,W, grid, , , ,N
Point25,xy, , ,in, deg, , ,N, , ,W, grid, , , ,N
Point26,xy, , ,in, deg, , ,N, , ,W, grid, , , ,N
Point27,xy, , ,in, deg, , ,N, , ,W, grid, , , ,N
Point28,xy, , ,in, deg, , ,N, , ,W, grid, , , ,N
Point29,xy, , ,in, deg, , ,N, , ,W, grid, , , ,N
Point30,xy, , ,in, deg, , ,N, , ,W, grid, , , ,N
Projection Setup,,,,,,,,,,
Map Feature = MF ; Map Comment = MC These follow if they exist
Track File = TF These follow if they exist
Moving Map Parameters = MM? These follow if they exist
MM0,Yes
MMPNUM,4
MMPXY,1,0,0
MMPXY,2,1681,0
MMPXY,3,1681,3297
MMPXY,4,0,3297
MMPLL,1, 30.3169441223145, 36.8025499446415
MMPLL,2, 30.6055068969727, 36.8025499446415
MMPLL,3, 30.6055068969727, 36.3480383381256
MMPLL,4, 30.3169441223145, 36.3480383381256
MM1B,15.3461041506207
MOP,Map Open Position,0,0
IWH,Map Image Width/Height,1681,3297
