OziExplorer Map Data File Version 2.2
200k--g46-02.gif
200k--g46-02.gif
1 ,Map Code,
Pulkovo 1942 (2),WGS 84, 0.0000, 0.0000,WGS 84
Reserved 1
Reserved 2
Magnetic Variation,,,E
Map Projection,Transverse Mercator,PolyCal,No,AutoCalOnly,No,BSBUseWPX,No
Point01,xy, 123, 92,in, deg, 28, 0.0000,N, 91, 0.0000,E, grid, , , ,N
Point02,xy, 2055, 106,in, deg, 28, 0.0000,N, 91, 30.0000,E, grid, , , ,N
Point03,xy, 3983, 117,in, deg, 28, 0.0000,N, 92, 0.0000,E, grid, , , ,N
Point04,xy, 109, 1552,in, deg, 27, 40.0000,N, 91, 0.0000,E, grid, , , ,N
Point05,xy, 2046, 1568,in, deg, 27, 40.0000,N, 91, 30.0000,E, grid, , , ,N
Point06,xy, 3980, 1581,in, deg, 27, 40.0000,N, 92, 0.0000,E, grid, , , ,N
Point07,xy, 94, 3015,in, deg, 27, 20.0000,N, 91, 0.0000,E, grid, , , ,N
Point08,xy, 2038, 3032,in, deg, 27, 20.0000,N, 91, 30.0000,E, grid, , , ,N
Point09,xy, 3978, 3044,in, deg, 27, 20.0000,N, 92, 0.0000,E, grid, , , ,N
Point10,xy, , ,in, deg, , ,N, , ,W, grid, , , ,N
Point11,xy, , ,in, deg, , ,N, , ,W, grid, , , ,N
Point12,xy, , ,in, deg, , ,N, , ,W, grid, , , ,N
Point13,xy, , ,in, deg, , ,N, , ,W, grid, , , ,N
Point14,xy, , ,in, deg, , ,N, , ,W, grid, , , ,N
Point15,xy, , ,in, deg, , ,N, , ,W, grid, , , ,N
Point16,xy, , ,in, deg, , ,N, , ,W, grid, , , ,N
Point17,xy, , ,in, deg, , ,N, , ,W, grid, , , ,N
Point18,xy, , ,in, deg, , ,N, , ,W, grid, , , ,N
Point19,xy, , ,in, deg, , ,N, , ,W, grid, , , ,N
Point20,xy, , ,in, deg, , ,N, , ,W, grid, , , ,N
Point21,xy, , ,in, deg, , ,N, , ,W, grid, , , ,N
Point22,xy, , ,in, deg, , ,N, , ,W, grid, , , ,N
Point23,xy, , ,in, deg, , ,N, , ,W, grid, , , ,N
Point24,xy, , ,in, deg, , ,N, , ,W, grid, , , ,N
Point25,xy, , ,in, deg, , ,N, , ,W, grid, , , ,N
Point26,xy, , ,in, deg, , ,N, , ,W, grid, , , ,N
Point27,xy, , ,in, deg, , ,N, , ,W, grid, , , ,N
Point28,xy, , ,in, deg, , ,N, , ,W, grid, , , ,N
Point29,xy, , ,in, deg, , ,N, , ,W, grid, , , ,N
Point30,xy, , ,in, deg, , ,N, , ,W, grid, , , ,N
Projection Setup, 0.000000000, 93.000000000, 1.000000000, 500000.00, 0.00,,,,,
Map Feature = MF ; Map Comment = MC These follow if they exist
Track File = TF These follow if they exist
Moving Map Parameters = MM? These follow if they exist
MM0,Yes
MMPNUM,4
MMPXY,1,123,92
MMPXY,2,3983,117
MMPXY,3,3978,3044
MMPXY,4,94,3015
MMPLL,1, 91.000000, 28.000000
MMPLL,2, 92.000000, 28.000000
MMPLL,3, 92.000000, 27.333333
MMPLL,4, 91.000000, 27.333333
MM1B,23.611997
MOP,Map Open Position,0,0
IWH,Map Image Width/Height,4078,3134
