OziExplorer Map Data File Version 2.2
200k--g46-08.gif
200k--g46-08.gif
1 ,Map Code,
Pulkovo 1942 (2),WGS 84, 0.0000, 0.0000,WGS 84
Reserved 1
Reserved 2
Magnetic Variation,,,E
Map Projection,Transverse Mercator,PolyCal,No,AutoCalOnly,No,BSBUseWPX,No
Point01,xy, 106, 82,in, deg, 27, 20.0000,N, 91, 0.0000,E, grid, , , ,N
Point02,xy, 2069, 84,in, deg, 27, 20.0000,N, 91, 30.0000,E, grid, , , ,N
Point03,xy, 4025, 80,in, deg, 27, 20.0000,N, 92, 0.0000,E, grid, , , ,N
Point04,xy, 102, 1536,in, deg, 27, 0.0000,N, 91, 0.0000,E, grid, , , ,N
Point05,xy, 2069, 1538,in, deg, 27, 0.0000,N, 91, 30.0000,E, grid, , , ,N
Point06,xy, 4030, 1534,in, deg, 27, 0.0000,N, 92, 0.0000,E, grid, , , ,N
Point07,xy, 97, 2994,in, deg, 26, 40.0000,N, 91, 0.0000,E, grid, , , ,N
Point08,xy, 2066, 2994,in, deg, 26, 40.0000,N, 91, 30.0000,E, grid, , , ,N
Point09,xy, 4036, 2989,in, deg, 26, 40.0000,N, 92, 0.0000,E, grid, , , ,N
Point10,xy, , ,in, deg, , ,N, , ,W, grid, , , ,N
Point11,xy, , ,in, deg, , ,N, , ,W, grid, , , ,N
Point12,xy, , ,in, deg, , ,N, , ,W, grid, , , ,N
Point13,xy, , ,in, deg, , ,N, , ,W, grid, , , ,N
Point14,xy, , ,in, deg, , ,N, , ,W, grid, , , ,N
Point15,xy, , ,in, deg, , ,N, , ,W, grid, , , ,N
Point16,xy, , ,in, deg, , ,N, , ,W, grid, , , ,N
Point17,xy, , ,in, deg, , ,N, , ,W, grid, , , ,N
Point18,xy, , ,in, deg, , ,N, , ,W, grid, , , ,N
Point19,xy, , ,in, deg, , ,N, , ,W, grid, , , ,N
Point20,xy, , ,in, deg, , ,N, , ,W, grid, , , ,N
Point21,xy, , ,in, deg, , ,N, , ,W, grid, , , ,N
Point22,xy, , ,in, deg, , ,N, , ,W, grid, , , ,N
Point23,xy, , ,in, deg, , ,N, , ,W, grid, , , ,N
Point24,xy, , ,in, deg, , ,N, , ,W, grid, , , ,N
Point25,xy, , ,in, deg, , ,N, , ,W, grid, , , ,N
Point26,xy, , ,in, deg, , ,N, , ,W, grid, , , ,N
Point27,xy, , ,in, deg, , ,N, , ,W, grid, , , ,N
Point28,xy, , ,in, deg, , ,N, , ,W, grid, , , ,N
Point29,xy, , ,in, deg, , ,N, , ,W, grid, , , ,N
Point30,xy, , ,in, deg, , ,N, , ,W, grid, , , ,N
Projection Setup, 0.000000000, 93.000000000, 1.000000000, 500000.00, 0.00,,,,,
Map Feature = MF ; Map Comment = MC These follow if they exist
Track File = TF These follow if they exist
Moving Map Parameters = MM? These follow if they exist
MM0,Yes
MMPNUM,4
MMPXY,1,132,98
MMPXY,2,3995,98
MMPXY,3,3995,2978
MMPXY,4,132,2978
MMPLL,1, 91.006072, 27.329580
MMPLL,2, 91.992238, 27.329028
MMPLL,3, 91.989454, 26.669205
MMPLL,4, 91.009030, 26.669994
MM1B,25.259408
MOP,Map Open Position,0,0
IWH,Map Image Width/Height,4127,3076
