OziExplorer Map Data File Version 2.2
200k--g46-09.gif
200k--g46-09.gif
1 ,Map Code,
Pulkovo 1942 (2),WGS 84, 0.0000, 0.0000,WGS 84
Reserved 1
Reserved 2
Magnetic Variation,,,E
Map Projection,Transverse Mercator,PolyCal,No,AutoCalOnly,No,BSBUseWPX,No
Point01,xy, 92, 85,in, deg, 27, 20.0000,N, 92, 0.0000,E, grid, , , ,N
Point02,xy, 2049, 86,in, deg, 27, 20.0000,N, 92, 30.0000,E, grid, , , ,N
Point03,xy, 4006, 81,in, deg, 27, 20.0000,N, 93, 0.0000,E, grid, , , ,N
Point04,xy, 86, 1540,in, deg, 27, 0.0000,N, 92, 0.0000,E, grid, , , ,N
Point05,xy, 2050, 1540,in, deg, 27, 0.0000,N, 92, 30.0000,E, grid, , , ,N
Point06,xy, 4014, 1538,in, deg, 27, 0.0000,N, 93, 0.0000,E, grid, , , ,N
Point07,xy, 84, 2994,in, deg, 26, 40.0000,N, 92, 0.0000,E, grid, , , ,N
Point08,xy, 2052, 2999,in, deg, 26, 40.0000,N, 92, 30.0000,E, grid, , , ,N
Point09,xy, 4020, 2994,in, deg, 26, 40.0000,N, 93, 0.0000,E, grid, , , ,N
Point10,xy, , ,in, deg, , ,N, , ,W, grid, , , ,N
Point11,xy, , ,in, deg, , ,N, , ,W, grid, , , ,N
Point12,xy, , ,in, deg, , ,N, , ,W, grid, , , ,N
Point13,xy, , ,in, deg, , ,N, , ,W, grid, , , ,N
Point14,xy, , ,in, deg, , ,N, , ,W, grid, , , ,N
Point15,xy, , ,in, deg, , ,N, , ,W, grid, , , ,N
Point16,xy, , ,in, deg, , ,N, , ,W, grid, , , ,N
Point17,xy, , ,in, deg, , ,N, , ,W, grid, , , ,N
Point18,xy, , ,in, deg, , ,N, , ,W, grid, , , ,N
Point19,xy, , ,in, deg, , ,N, , ,W, grid, , , ,N
Point20,xy, , ,in, deg, , ,N, , ,W, grid, , , ,N
Point21,xy, , ,in, deg, , ,N, , ,W, grid, , , ,N
Point22,xy, , ,in, deg, , ,N, , ,W, grid, , , ,N
Point23,xy, , ,in, deg, , ,N, , ,W, grid, , , ,N
Point24,xy, , ,in, deg, , ,N, , ,W, grid, , , ,N
Point25,xy, , ,in, deg, , ,N, , ,W, grid, , , ,N
Point26,xy, , ,in, deg, , ,N, , ,W, grid, , , ,N
Point27,xy, , ,in, deg, , ,N, , ,W, grid, , , ,N
Point28,xy, , ,in, deg, , ,N, , ,W, grid, , , ,N
Point29,xy, , ,in, deg, , ,N, , ,W, grid, , , ,N
Point30,xy, , ,in, deg, , ,N, , ,W, grid, , , ,N
Projection Setup, 0.000000000, 93.000000000, 1.000000000, 500000.00, 0.00,,,,,
Map Feature = MF ; Map Comment = MC These follow if they exist
Track File = TF These follow if they exist
Moving Map Parameters = MM? These follow if they exist
MM0,Yes
MMPNUM,4
MMPXY,1,131,98
MMPXY,2,3978,98
MMPXY,3,3978,2976
MMPXY,4,131,2976
MMPLL,1, 92.010070, 27.330028
MMPLL,2, 92.992820, 27.329610
MMPLL,3, 92.989202, 26.670629
MMPLL,4, 92.012164, 26.671121
MM1B,25.272160
MOP,Map Open Position,0,0
IWH,Map Image Width/Height,4109,3074
