OziExplorer Map Data File Version 2.2
200k--g46-10.gif
200k--g46-10.gif
1 ,Map Code,
Pulkovo 1942 (2),WGS 84, 0.0000, 0.0000,WGS 84
Reserved 1
Reserved 2
Magnetic Variation,,,E
Map Projection,Transverse Mercator,PolyCal,No,AutoCalOnly,No,BSBUseWPX,No
Point01,xy, 94, 93,in, deg, 27, 20.0000,N, 93, 0.0000,E, grid, , , ,N
Point02,xy, 2051, 90,in, deg, 27, 20.0000,N, 93, 30.0000,E, grid, , , ,N
Point03,xy, 4008, 82,in, deg, 27, 20.0000,N, 94, 0.0000,E, grid, , , ,N
Point04,xy, 92, 1548,in, deg, 27, 0.0000,N, 93, 0.0000,E, grid, , , ,N
Point05,xy, 2056, 1548,in, deg, 27, 0.0000,N, 93, 30.0000,E, grid, , , ,N
Point06,xy, 4018, 1536,in, deg, 27, 0.0000,N, 94, 0.0000,E, grid, , , ,N
Point07,xy, 89, 3004,in, deg, 26, 40.0000,N, 93, 0.0000,E, grid, , , ,N
Point08,xy, 2058, 3004,in, deg, 26, 40.0000,N, 93, 30.0000,E, grid, , , ,N
Point09,xy, 4027, 2992,in, deg, 26, 40.0000,N, 94, 0.0000,E, grid, , , ,N
Point10,xy, , ,in, deg, , ,N, , ,W, grid, , , ,N
Point11,xy, , ,in, deg, , ,N, , ,W, grid, , , ,N
Point12,xy, , ,in, deg, , ,N, , ,W, grid, , , ,N
Point13,xy, , ,in, deg, , ,N, , ,W, grid, , , ,N
Point14,xy, , ,in, deg, , ,N, , ,W, grid, , , ,N
Point15,xy, , ,in, deg, , ,N, , ,W, grid, , , ,N
Point16,xy, , ,in, deg, , ,N, , ,W, grid, , , ,N
Point17,xy, , ,in, deg, , ,N, , ,W, grid, , , ,N
Point18,xy, , ,in, deg, , ,N, , ,W, grid, , , ,N
Point19,xy, , ,in, deg, , ,N, , ,W, grid, , , ,N
Point20,xy, , ,in, deg, , ,N, , ,W, grid, , , ,N
Point21,xy, , ,in, deg, , ,N, , ,W, grid, , , ,N
Point22,xy, , ,in, deg, , ,N, , ,W, grid, , , ,N
Point23,xy, , ,in, deg, , ,N, , ,W, grid, , , ,N
Point24,xy, , ,in, deg, , ,N, , ,W, grid, , , ,N
Point25,xy, , ,in, deg, , ,N, , ,W, grid, , , ,N
Point26,xy, , ,in, deg, , ,N, , ,W, grid, , , ,N
Point27,xy, , ,in, deg, , ,N, , ,W, grid, , , ,N
Point28,xy, , ,in, deg, , ,N, , ,W, grid, , , ,N
Point29,xy, , ,in, deg, , ,N, , ,W, grid, , , ,N
Point30,xy, , ,in, deg, , ,N, , ,W, grid, , , ,N
Projection Setup, 0.000000000, 93.000000000, 1.000000000, 500000.00, 0.00,,,,,
Map Feature = MF ; Map Comment = MC These follow if they exist
Track File = TF These follow if they exist
Moving Map Parameters = MM? These follow if they exist
MM0,Yes
MMPNUM,4
MMPXY,1,132,99
MMPXY,2,3986,99
MMPXY,3,3986,2990
MMPXY,4,132,2990
MMPLL,1, 93.009689, 27.331937
MMPLL,2, 93.994227, 27.329262
MMPLL,3, 93.989577, 26.667392
MMPLL,4, 93.010787, 26.669977
MM1B,25.272329
MOP,Map Open Position,0,0
IWH,Map Image Width/Height,4118,3089
