OziExplorer Map Data File Version 2.2
MaraphonAutumn2010
D:\Media\Picture\Map\Maraphon\Autumn10\MaraphonAutumn2010_draft.jpg
1 ,Map Code,
Pulkovo 1942 (2),WGS 84, 0.0000, 0.0000,WGS 84
Reserved 1
Reserved 2
Magnetic Variation,,,E
Map Projection,Transverse Mercator,PolyCal,No,AutoCalOnly,No,BSBUseWPX,No
Point01,xy, 973, 809,in, deg, 55, 0.0000,N, 83, 30.0000,E, grid, , , ,N
Point02,xy, 3366, 809,in, deg, 55, 0.0000,N, 83, 49.0000,E, grid, , , ,N
Point03,xy, 2866, 2998,in, deg, 54, 50.0000,N, 83, 45.0000,E, grid, , , ,N
Point04,xy, 964, 4754,in, deg, 54, 42.0000,N, 83, 30.0000,E, grid, , , ,N
Point05,xy, 968, 3000,in, deg, 54, 50.0000,N, 83, 30.0000,E, grid, , , ,N
Point06,xy, 2554, 2015,ex, deg, 54, 33.7090,N, 85, 14.2710,E, grid, , , ,N
Point07,xy, 1803, 526,ex, deg, 54, 43.9830,N, 85, 5.5130,E, grid, , , ,N
Point08,xy, 538, 581,ex, deg, 54, 43.6250,N, 84, 50.5610,E, grid, , , ,N
Point09,xy, 913, 1448,ex, deg, 54, 37.6690,N, 84, 55.0320,E, grid, , , ,N
Point10,xy, , ,in, deg, , ,N, , ,W, grid, , , ,N
Point11,xy, , ,in, deg, , ,N, , ,W, grid, , , ,N
Point12,xy, , ,in, deg, , ,N, , ,W, grid, , , ,N
Point13,xy, , ,in, deg, , ,N, , ,W, grid, , , ,N
Point14,xy, , ,in, deg, , ,N, , ,W, grid, , , ,N
Point15,xy, , ,in, deg, , ,N, , ,W, grid, , , ,N
Point16,xy, , ,in, deg, , ,N, , ,W, grid, , , ,N
Point17,xy, , ,in, deg, , ,N, , ,W, grid, , , ,N
Point18,xy, , ,in, deg, , ,N, , ,W, grid, , , ,N
Point19,xy, , ,in, deg, , ,N, , ,W, grid, , , ,N
Point20,xy, , ,in, deg, , ,N, , ,W, grid, , , ,N
Point21,xy, , ,in, deg, , ,N, , ,W, grid, , , ,N
Point22,xy, , ,in, deg, , ,N, , ,W, grid, , , ,N
Point23,xy, , ,in, deg, , ,N, , ,W, grid, , , ,N
Point24,xy, , ,in, deg, , ,N, , ,W, grid, , , ,N
Point25,xy, , ,in, deg, , ,N, , ,W, grid, , , ,N
Point26,xy, , ,in, deg, , ,N, , ,W, grid, , , ,N
Point27,xy, , ,in, deg, , ,N, , ,W, grid, , , ,N
Point28,xy, , ,in, deg, , ,N, , ,W, grid, , , ,N
Point29,xy, , ,in, deg, , ,N, , ,W, grid, , , ,N
Point30,xy, , ,in, deg, , ,N, , ,W, grid, , , ,N
Projection Setup, 0.000000000, 87.000000000, 1.000000000, 500000.00, 0.00,,,,,
Map Feature = MF ; Map Comment = MC These follow if they exist
Track File = TF These follow if they exist
Moving Map Parameters = MM? These follow if they exist
MM0,Yes
MMPNUM,4
MMPXY,1,0,0
MMPXY,2,3228,0
MMPXY,3,3228,2260
MMPXY,4,0,2260
MMPLL,1, 83.370864, 55.061391
MMPLL,2, 83.798570, 55.061481
MMPLL,3, 83.797965, 54.889538
MMPLL,4, 83.372084, 54.889474
MM1B,8.460020
LL Grid Setup
LLGRID,No,No Grid,Yes,255,16711680,0,No Labels,0,16777215,7,1,Yes,x
Other Grid Setup
GRGRID,No,No Grid,Yes,255,16711680,No Labels,0,16777215,8,1,Yes,No,No,x
MOP,Map Open Position,0,0
IWH,Map Image Width/Height,3390,4843
